Workbook
Name カテゴリー: 入力!$AV$2:$AV$5
Name 女子: 入力!$AW$3:$AY$3
Name 女子B: 入力!$AW$4:$AY$4
Name 女子支部: 入力!$AW$3:$AY$3
Name 男子: 入力!$AW$2:$AX$2
Name 男子支部: 入力!$AW$2:$AX$2
Name 男女混合: 入力!$AW$5

Sheet 入力
A1: 【入力用シート】これ以外のシートには入力しないでください
A2: フリガナ | C2: ナリタドルフィンス゛ | J2: 性別(男子・女子・女子Ｂ・男女混合) | P2: チーム所在地(市郡区) | AE2: 支部名 | AV2: 男子 | AW2: 北支部 | AX2: 南支部
A3: チーム名 | C3: 成田ドルフィンズ | J3: 女子 | P3: 成田市 | AE3: 北東支部 | AV3: 女子 | AW3: 北西支部 | AX3: 北東支部 | AY3: 南房総支部
A4: JVA-MRSチームID | C4: T10052563 | J4: チームID(大会プログラム用) | P4: 最寄駅 | AV4: 女子B | AW4: =AW3 -> 北西支部 | AX4: =AX3 -> 北東支部 | AY4: =AY3 -> 南房総支部
A5: MRSチームID(混合用) | J5: 22010 | P5: JR成田 | AE5: 滑河 | AV5: 男女混合 | AW5: 支部なし
A6: 監督 | C6: ミョウジ 苗字 | E6: ナマエ 名前 | G6: JVA-MRSスタッフID | J6: 日小連講習受講No. | M6: 日体協資格No. | P6: 自宅住所 | AK6: 電話番号 | AT6: 年齢
C7: ミヤ | E7: キヨミ | G7: JVA015574626 | J7: 304049 | P7: 〒 | R7: 289 | V7: ― | W7: 0107 | AK7: （ | AL7: 0476 | AS7: ） | AT7: 68
C8: 宮 | E8: 清美 | P8: 千葉県成田市猿山469 | AK8: 96 | AO8: ― | AP8: 0013
A9: コーチ1 | C9: シオヤ | E9: ナホコ | G9: JVA023597358 | P9: 〒 | R9: 289 | V9: ― | W9: 0117 | AK9: （ | AL9: 090 | AS9: ） | AT9: 47
C10: 塩谷 | E10: 奈穂子 | P10: 千葉県成田市七沢268-9 | AK10: 2222 | AO10: ― | AP10: 8134
A11: コーチ2 | C11: ミヤモト | E11: エリ | G11: JVA003018538 | P11: 〒 | R11: 286 | V11: ― | W11: 0807 | AK11: （ | AL11: 080 | AS11: ） | AT11: 35
C12: 宮本 | E12: 恵莉 | P12: 千葉県成田市北羽鳥1918 | AK12: 3505 | AO12: ― | AP12: 4476
A13: マネージャー | P13: 〒 | V13: ― | AK13: （ | AS13: ）
AO14: ―
A15: 帯同員 | C15: ミヤ | E15: キヨミ
C16: 宮 | E16: 清美
A17: 申込責任者 (連絡責任者) | C17: ヨシオカ | E17: ナオコ | P17: 〒 | R17: 286 | V17: ― | W17: 0835 | AK17: （ | AL17: 090 | AS17: ） | AT17: 44
C18: 吉岡 | E18: 奈穂子 | P18: 千葉県成田市関戸24-1 | AK18: 2464 | AO18: ― | AP18: 3660
A19: 住所 | C19: =IF(P18="","",P18) -> 千葉県成田市関戸24-1
A21: 電話番号 | C21: =IF(AL17="","",AL17&"-"&AK18&"-"&AP18) -> 090-2464-3660
A23: 携帯電話番号
A25: 選手No | B25: 背番号 | C25: ミョウジ | E25: ナマエ | G25: 学年 | I25: 学校名 | M25: JVA-MRSメンバーID | P25: 身長(cm)
C26: 苗字 | E26: 名前 | Y26: 購入部数
A27: 1 | B27: ① | C27: ヨシオカ | E27: ソナ | G27: 6 | I27: 成田市立美郷台小学校 | M27: JVA020975487 | P27: 157 | Y27: 10
C28: 吉岡 | E28: 奏和
A29: 2 | B29: 2 | C29: ワカサ | E29: ヒナノ | G29: 6 | I29: 成田市立神宮寺小学校 | M29: JVA020988708 | P29: 135
C30: 若狭 | E30: 陽夏乃
A31: 3 | B31: 3 | C31: カミヤ | E31: ユリカ | G31: 6 | I31: 成田市立下総みどり学園 | M31: JVA023597518 | P31: 156
C32: 紙谷 | E32: 優梨花
A33: 4 | B33: 4 | C33: シオヤ | E33: ミル | G33: 5 | I33: 成田市立下総みどり学園 | M33: JVA020683924 | P33: 156
C34: 塩谷 | E34: 海瑠
A35: 5 | B35: 5 | C35: カミヤ | E35: カスミ | G35: 5 | I35: 成田市立下総みどり学園 | M35: JVA020988715 | P35: 150
C36: 紙谷 | E36: 花寿美 | Y36: キャプテン
A37: 6 | B37: 6 | C37: タカハシ | E37: コハル | G37: 5 | I37: 成田市立平成小学校 | M37: JVA022334886 | P37: 150 | Y37: 1
C38: 髙橋 | E38: 心晴
A39: 7 | B39: 7 | C39: イシイ | E39: マホ | G39: 5 | I39: 成田市立豊住小学校 | M39: JVA022458193 | P39: 141
C40: 石井 | E40: 茉帆
A41: 8 | B41: 8 | C41: ミヤモト | E41: カホ | G41: 5 | I41: 成田市立豊住小学校 | M41: JVA022480903 | P41: 144
C42: 宮本 | E42: 華帆
A43: 9 | B43: 9 | C43: サトウ | E43: タマキ | G43: 5 | I43: 佐原市立佐原小学校 | M43: JVA022704894 | P43: 143
...

Sheet データ※禁入力
A1: Tourney標準シート | D1: ver | E1: 作成 | F1: 作成日 | G1: ver | H1: 修正 | I1: 修正日 | J1: ver | K1: 修正 | L1: 修正日 | M1: ver | N1: 修正 | O1: 修正日 | P1: ver | Q1: 修正 | R1: 修正日 | S1: ver | T1: 修正 | U1: 修正日 | V1: ver | W1: 修正 | X1: 修正日 | Y1: ver | Z1: 修正 | AA1: 修正日 | AB1: ver | AC1: 修正 | AD1: 修正日 | AE1: ver | AF1: 修正 | AG1: 修正日 | AH1: ver | AI1: 修正 | AJ1: 修正日
D2: 1 | E2: 河部誠一 | F2: 42443 | G2: 1.01 | H2: 河部誠一 | I2: 42471
A4: 大会名 | H4: 男女 | I4: 購入部数 | J4: コメント
H5: =IF(入力!J3="","",入力!J3) -> 女子 | I5: =入力!Y27 -> 10
A6: チームID | B6: チーム名 | C6: チーム名よみ | D6: ブロック・支部 | E6: 男女 | F6: 郵便番号1 | G6: 郵便番号2 | H6: 都道府県 | I6: 住所1 | J6: 住所2 | K6: 電話番号1 | L6: 電話番号2 | M6: 電話番号3 | N6: ファックス1 | O6: ファックス2 | P6: ファックス3 | Q6: 学校長名 | R6: 最寄り駅路線 | S6: 最寄り駅 | T6: 学校ID | U6: JVA番号1 | V6: JVA番号1
A7: =IF(入力!J5="","",入力!J5) -> 22010 | B7: =IF(入力!C3="","",入力!C3) -> 成田ドルフィンズ | C7: =IF(入力!C2="","",入力!C2) -> ナリタドルフィンス゛ | D7: =IF(入力!AE3="","",入力!AE3) -> 北東支部 | E7: =IF(入力!J3="","",入力!J3) -> 女子 | R7: =IF(入力!P5="","",入力!P5) -> JR成田 | S7: =IF(入力!AE5="","",入力!AE5) -> 滑河 | U7: =IF(入力!C4="","",入力!C4) -> T10052563 | V7: =IF(入力!C5="","",入力!C5)
A15: スタッフNo. | B15: 役職 | C15: スタッフ姓 | D15: スタッフ名 | E15: スタッフ姓よみ | F15: スタッフ名よみ | G15: JVA番号 | H15: 資格番号1 | I15: 資格番号2 | J15: 資格番号3 | K15: 生年月日 | L15: 年齢 | M15: メール | N15: 携帯1 | O15: 携帯2 | P15: 携帯3 | Q15: 外部・教職員 | R15: 郵便番号1 | S15: 郵便番号2 | T15: 住所 | U15: 電話1 | V15: 電話2 | W15: 電話3
A16: 1 | B16: 監督 | C16: =IF(入力!C8="","",入力!C8) -> 宮 | D16: =IF(入力!E8="","",入力!E8) -> 清美 | E16: =IF(入力!C7="","",入力!C7) -> ミヤ | F16: =IF(入力!E7="","",入力!E7) -> キヨミ | G16: =IF(入力!G7="","",入力!G7) -> JVA015574626 | H16: =IF(入力!J7="","",入力!J7) -> 304049 | I16: =IF(入力!M7="","",入力!M7) | L16: =IF(入力!AT7="","",入力!AT7) -> 68 | R16: =IF(入力!R7="","",入力!R7) -> 289 | S16: =IF(入力!W7="","",入力!W7) -> 0107 | T16: =IF(入力!P8="","",入力!P8) -> 千葉県成田市猿山469 | U16: =IF(入力!AL7="","",入力!AL7) -> 0476 | V16: =IF(入力!AK8="","",入力!AK8) -> 96 | W16: =IF(入力!AP8="","",入力!AP8) -> 0013
A17: 2 | B17: コーチ1 | C17: =IF(入力!C10="","",入力!C10) -> 塩谷 | D17: =IF(入力!E10="","",入力!E10) -> 奈穂子 | E17: =IF(入力!C9="","",入力!C9) -> シオヤ | F17: =IF(入力!E9="","",入力!E9) -> ナホコ | G17: =IF(入力!G9="","",入力!G9) -> JVA023597358 | H17: =IF(入力!J9="","",入力!J9) | I17: =IF(入力!M9="","",入力!M9) | L17: =IF(入力!AT9="","",入力!AT9) -> 47 | R17: =IF(入力!R9="","",入力!R9) -> 289 | S17: =IF(入力!W9="","",入力!W9) -> 0117 | T17: =IF(入力!P10="","",入力!P10) -> 千葉県成田市七沢268-9 | U17: =IF(入力!AL9="","",入力!AL9) -> 090 | V17: =IF(入力!AK10="","",入力!AK10) -> 2222 | W17: =IF(入力!AP10="","",入力!AP10) -> 8134
A18: 3 | B18: コーチ2 | C18: =IF(入力!C12="","",入力!C12) -> 宮本 | D18: =IF(入力!E12="","",入力!E12) -> 恵莉 | E18: =IF(入力!C11="","",入力!C11) -> ミヤモト | F18: =IF(入力!E11="","",入力!E11) -> エリ | G18: =IF(入力!G11="","",入力!G11) -> JVA003018538 | H18: =IF(入力!J11="","",入力!J11) | I18: =IF(入力!M11="","",入力!M11) | L18: =IF(入力!AT11="","",入力!AT11) -> 35 | R18: =IF(入力!R11="","",入力!R11) -> 286 | S18: =IF(入力!W11="","",入力!W11) -> 0807 | T18: =IF(入力!P12="","",入力!P12) -> 千葉県成田市北羽鳥1918 | U18: =IF(入力!AL11="","",入力!AL11) -> 080 | V18: =IF(入力!AK12="","",入力!AK12) -> 3505 | W18: =IF(入力!AP12="","",入力!AP12) -> 4476
A19: 4 | B19: トレーナー
A20: 5 | B20: マネージャー | C20: =IF(入力!C14="","",入力!C14) | D20: =IF(入力!E14="","",入力!E14) | E20: =IF(入力!C13="","",入力!C13) | F20: =IF(入力!E13="","",入力!E13) | G20: =IF(入力!G13="","",入力!G13) | H20: =IF(入力!J13="","",入力!J13) | I20: =IF(入力!M13="","",入力!M13) | L20: =IF(入力!AT13="","",入力!AT13) | R20: =IF(入力!R13="","",入力!R13) | S20: =IF(入力!W13="","",入力!W13) | T20: =IF(入力!P14="","",入力!P14) | U20: =IF(入力!AL13="","",入力!AL13) | V20: =IF(入力!AK14="","",入力!AK14) | W20: =IF(入力!AP14="","",入力!AP14)
A21: 6 | B21: 部長 | G21: =IF(入力!G15="","",入力!G15) | H21: =IF(入力!J15="","",入力!J15) | I21: =IF(入力!M15="","",入力!M15) | L21: =IF(入力!AT15="","",入力!AT15) | R21: =IF(入力!R15="","",入力!R15) | S21: =IF(入力!W15="","",入力!W15) | T21: =IF(入力!P16="","",入力!P16) | U21: =IF(入力!AL15="","",入力!AL15) | V21: =IF(入力!AK16="","",入力!AK16) | W21: =IF(入力!AP16="","",入力!AP16)
A22: 7 | B22: 連絡・申込責任者 | C22: =IF(入力!C18="","",入力!C18) -> 吉岡 | D22: =IF(入力!E18="","",入力!E18) -> 奈穂子 | E22: =IF(入力!C17="","",入力!C17) -> ヨシオカ | F22: =IF(入力!E17="","",入力!E17) -> ナオコ | L22: =IF(入力!AT17="","",入力!AT17) -> 44 | N22: =IF(入力!C23="","",入力!C23) | O22: =IF(入力!E23="","",入力!E23) | P22: =IF(入力!G23="","",入力!G23) | R22: =IF(入力!R17="","",入力!R17) -> 286 | S22: =IF(入力!W17="","",入力!W17) -> 0835 | T22: =IF(入力!P18="","",入力!P18) -> 千葉県成田市関戸24-1 | U22: =IF(入力!AL17="","",入力!AL17) -> 090 | V22: =IF(入力!AK18="","",入力!AK18) -> 2464 | W22: =IF(入力!AP18="","",入力!AP18) -> 3660
A23: 8 | B23: 帯同員 | C23: =IF(入力!$C$16="","",入力!$C$16) -> 宮 | D23: =IF(入力!$E$16="","",入力!$E$16) -> 清美 | E23: =IF(入力!$C$15="","",入力!$C$15) -> ミヤ | F23: =IF(入力!$E$15="","",入力!$E$15) -> キヨミ | G23: =IF(入力!G17="","",入力!G17) | H23: =IF(入力!J17="","",入力!J17) | I23: =IF(入力!M17="","",入力!M17)
A24: 9 | B24: キャプテン | C24: =VLOOKUP($B$51,$A$53:$F$352,3) -> 吉岡 | D24: =VLOOKUP($B$51,$A$53:$F$352,4) -> 奏和 | E24: =VLOOKUP($B$51,$A$53:$F$352,5) -> ヨシオカ | F24: =VLOOKUP($B$51,$A$53:$F$352,6) -> ソナ | G24: =IF(入力!G8="","",入力!G8) | H24: =IF(入力!J8="","",入力!J8)
A51: キャプテン選手No | B51: =IF(入力!Y37="","",入力!Y37) -> 1
A52: 選手No. | B52: 背番号 | C52: 選手姓 | D52: 選手名 | E52: 選手姓よみ | F52: 選手名よみ | G52: JVA番号 | H52: 学校名 | I52: 学年 | J52: 身長 | K52: 出身校 | L52: 掲載可否
A53: 1 | B53: =IF(入力!B27="","",入力!B27) -> ① | C53: =IF(入力!C28="","",入力!C28) -> 吉岡 | D53: =IF(入力!E28="","",入力!E28) -> 奏和 | E53: =IF(入力!C27="","",入力!C27) -> ヨシオカ | F53: =IF(入力!E27="","",入力!E27) -> ソナ | G53: =IF(入力!M27="","",入力!M27) -> JVA020975487 | H53: =IF(入力!I27="","",入力!I27) -> 成田市立美郷台小学校 | I53: =IF(入力!G27="","",入力!G27) -> 6 | J53: =IF(入力!P27="","",入力!P27) -> 157
A54: =A53+1 -> 2 | B54: =IF(入力!B29="","",入力!B29) -> 2 | C54: =IF(入力!C30="","",入力!C30) -> 若狭 | D54: =IF(入力!E30="","",入力!E30) -> 陽夏乃 | E54: =IF(入力!C29="","",入力!C29) -> ワカサ | F54: =IF(入力!E29="","",入力!E29) -> ヒナノ | G54: =IF(入力!M29="","",入力!M29) -> JVA020988708 | H54: =IF(入力!I29="","",入力!I29) -> 成田市立神宮寺小学校 | I54: =IF(入力!G29="","",入力!G29) -> 6 | J54: =IF(入力!P29="","",入力!P29) -> 135
A55: =A54+1 -> 3 | B55: =IF(入力!B33="","",入力!B33) -> 4 | C55: =IF(入力!C34="","",入力!C34) -> 塩谷 | D55: =IF(入力!E34="","",入力!E34) -> 海瑠 | E55: =IF(入力!C33="","",入力!C33) -> シオヤ | F55: =IF(入力!E33="","",入力!E33) -> ミル | G55: =IF(入力!M33="","",入力!M33) -> JVA020683924 | H55: =IF(入力!I33="","",入力!I33) -> 成田市立下総みどり学園 | I55: =IF(入力!G33="","",入力!G33) -> 5 | J55: =IF(入力!P33="","",入力!P33) -> 156
A56: =A55+1 -> 4 | B56: =IF(入力!B35="","",入力!B35) -> 5 | C56: =IF(入力!C36="","",入力!C36) -> 紙谷 | D56: =IF(入力!E36="","",入力!E36) -> 花寿美 | E56: =IF(入力!C35="","",入力!C35) -> カミヤ | F56: =IF(入力!E35="","",入力!E35) -> カスミ | G56: =IF(入力!M35="","",入力!M35) -> JVA020988715 | H56: =IF(入力!I35="","",入力!I35) -> 成田市立下総みどり学園 | I56: =IF(入力!G35="","",入力!G35) -> 5 | J56: =IF(入力!P35="","",入力!P35) -> 150
A57: =A56+1 -> 5 | B57: =IF(入力!B37="","",入力!B37) -> 6 | C57: =IF(入力!C38="","",入力!C38) -> 髙橋 | D57: =IF(入力!E38="","",入力!E38) -> 心晴 | E57: =IF(入力!C37="","",入力!C37) -> タカハシ | F57: =IF(入力!E37="","",入力!E37) -> コハル | G57: =IF(入力!M37="","",入力!M37) -> JVA022334886 | H57: =IF(入力!I37="","",入力!I37) -> 成田市立平成小学校 | I57: =IF(入力!G37="","",入力!G37) -> 5 | J57: =IF(入力!P37="","",入力!P37) -> 150
A58: =A57+1 -> 6 | B58: =IF(入力!B39="","",入力!B39) -> 7 | C58: =IF(入力!C40="","",入力!C40) -> 石井 | D58: =IF(入力!E40="","",入力!E40) -> 茉帆 | E58: =IF(入力!C39="","",入力!C39) -> イシイ | F58: =IF(入力!E39="","",入力!E39) -> マホ | G58: =IF(入力!M39="","",入力!M39) -> JVA022458193 | H58: =IF(入力!I39="","",入力!I39) -> 成田市立豊住小学校 | I58: =IF(入力!G39="","",入力!G39) -> 5 | J58: =IF(入力!P39="","",入力!P39) -> 141
A59: =A58+1 -> 7 | B59: =IF(入力!B41="","",入力!B41) -> 8 | C59: =IF(入力!C42="","",入力!C42) -> 宮本 | D59: =IF(入力!E42="","",入力!E42) -> 華帆 | E59: =IF(入力!C41="","",入力!C41) -> ミヤモト | F59: =IF(入力!E41="","",入力!E41) -> カホ | G59: =IF(入力!M41="","",入力!M41) -> JVA022480903 | H59: =IF(入力!I41="","",入力!I41) -> 成田市立豊住小学校 | I59: =IF(入力!G41="","",入力!G41) -> 5 | J59: =IF(入力!P41="","",入力!P41) -> 144
A60: =A59+1 -> 8 | B60: =IF(入力!B43="","",入力!B43) -> 9 | C60: =IF(入力!C44="","",入力!C44) -> 佐藤 | D60: =IF(入力!E44="","",入力!E44) -> 環 | E60: =IF(入力!C43="","",入力!C43) -> サトウ | F60: =IF(入力!E43="","",入力!E43) -> タマキ | G60: =IF(入力!M43="","",入力!M43) -> JVA022704894 | H60: =IF(入力!I43="","",入力!I43) -> 佐原市立佐原小学校 | I60: =IF(入力!G43="","",入力!G43) -> 5 | J60: =IF(入力!P43="","",入力!P43) -> 143
A61: =A60+1 -> 9 | B61: =IF(入力!B45="","",入力!B45) -> 10 | C61: =IF(入力!C46="","",入力!C46) -> 宮本 | D61: =IF(入力!E46="","",入力!E46) -> 眞帆 | E61: =IF(入力!C45="","",入力!C45) -> ミヤモト | F61: =IF(入力!E45="","",入力!E45) -> マホ | G61: =IF(入力!M45="","",入力!M45) -> JVA022480910 | H61: =IF(入力!I45="","",入力!I45) -> 成田市立豊住小学校 | I61: =IF(入力!G45="","",入力!G45) -> 3 | J61: =IF(入力!P45="","",入力!P45) -> 123
A62: =A61+1 -> 10 | B62: =IF(入力!B31="","",入力!B31) -> 3 | C62: =IF(入力!C32="","",入力!C32) -> 紙谷 | D62: =IF(入力!E32="","",入力!E32) -> 優梨花 | E62: =IF(入力!C31="","",入力!C31) -> カミヤ | F62: =IF(入力!E31="","",入力!E31) -> ユリカ | G62: =IF(入力!M31="","",入力!M31) -> JVA023597518 | H62: =IF(入力!I31="","",入力!I31) -> 成田市立下総みどり学園 | I62: =IF(入力!G31="","",入力!G31) -> 6 | J62: =IF(入力!P31="","",入力!P31) -> 156
A63: =A62+1 -> 11 | B63: =IF(入力!B47="","",入力!B47) -> 11 | C63: =IF(入力!C48="","",入力!C48) -> 川名 | D63: =IF(入力!E48="","",入力!E48) -> ほのか | E63: =IF(入力!C47="","",入力!C47) -> カワナ | F63: =IF(入力!E47="","",入力!E47) -> ホノカ | G63: =IF(入力!M47="","",入力!M47) -> JVA024412414 | H63: =IF(入力!I47="","",入力!I47) -> 成田市立下総みどり学園 | I63: =IF(入力!G47="","",入力!G47) -> 1 | J63: =IF(入力!P47="","",入力!P47) -> 120
A64: =A63+1 -> 12 | B64: =IF(入力!B49="","",入力!B49) | C64: =IF(入力!C50="","",入力!C50) | D64: =IF(入力!E50="","",入力!E50) | E64: =IF(入力!C49="","",入力!C49) | F64: =IF(入力!E49="","",入力!E49) | G64: =IF(入力!M49="","",入力!M49) | H64: =IF(入力!I49="","",入力!I49) | I64: =IF(入力!G49="","",入力!G49) | J64: =IF(入力!P49="","",入力!P49)
A65: =A64+1 -> 13 | B65: =IF(入力!B51="","",入力!B51) | C65: =IF(入力!C52="","",入力!C52) | D65: =IF(入力!E52="","",入力!E52) | E65: =IF(入力!C51="","",入力!C51) | F65: =IF(入力!E51="","",入力!E51) | G65: =IF(入力!M51="","",入力!M51) | H65: =IF(入力!I51="","",入力!I51) | I65: =IF(入力!G51="","",入力!G51) | J65: =IF(入力!P51="","",入力!P51)
A66: =A65+1 -> 14 | B66: =IF(入力!B53="","",入力!B53) | C66: =IF(入力!C54="","",入力!C54) | D66: =IF(入力!E54="","",入力!E54) | E66: =IF(入力!C53="","",入力!C53) | F66: =IF(入力!E53="","",入力!E53) | G66: =IF(入力!M53="","",入力!M53) | H66: =IF(入力!I53="","",入力!I53) | I66: =IF(入力!G53="","",入力!G53) | J66: =IF(入力!P53="","",入力!P53)
A67: =A66+1 -> 15 | B67: =IF(入力!B54="","",入力!B54) | H67: =IF(入力!I54="","",入力!I54) | I67: =IF(入力!G52="","",入力!G52) | J67: =IF(入力!P52="","",入力!P52)
A68: =A67+1 -> 16 | B68: =IF(入力!B28="","",入力!B28) | H68: =IF(入力!I28="","",入力!I28) | I68: =IF(入力!G54="","",入力!G54) | J68: =IF(入力!P54="","",入力!P54)
A69: =A68+1 -> 17 | B69: =IF(入力!B30="","",入力!B30) | H69: =IF(入力!I30="","",入力!I30) | I69: =IF(入力!G28="","",入力!G28) | J69: =IF(入力!P28="","",入力!P28)
A70: =A69+1 -> 18 | B70: =IF(入力!B34="","",入力!B34) | H70: =IF(入力!I34="","",入力!I34) | I70: =IF(入力!G30="","",入力!G30) | J70: =IF(入力!P30="","",入力!P30)
A71: =A70+1 -> 19 | B71: =IF(入力!B36="","",入力!B36) | H71: =IF(入力!I36="","",入力!I36) | I71: =IF(入力!G34="","",入力!G34) | J71: =IF(入力!P34="","",入力!P34)
A72: =A71+1 -> 20 | B72: =IF(入力!B38="","",入力!B38) | H72: =IF(入力!I38="","",入力!I38) | I72: =IF(入力!G36="","",入力!G36) | J72: =IF(入力!P36="","",入力!P36)
A73: =A72+1 -> 21 | B73: =IF(入力!B40="","",入力!B40) | H73: =IF(入力!I40="","",入力!I40) | I73: =IF(入力!G38="","",入力!G38) | J73: =IF(入力!P38="","",入力!P38)
A74: =A73+1 -> 22 | B74: =IF(入力!B42="","",入力!B42) | H74: =IF(入力!I42="","",入力!I42) | I74: =IF(入力!G40="","",入力!G40) | J74: =IF(入力!P40="","",入力!P40)
...
