Workbook
Name カテゴリー: [1]入力!$AV$2:$AV$5
Name カテゴリー: [1]入力!$AV$2:$AV$5
Name カテゴリー: 入力!$AV$2:$AV$4
Name 女子: 入力!$AW$3:$BD$3
Name 女子B: 入力!$AW$4:$AY$4
Name 女子支部: 入力!$AW$3:$BD$3
Name 男子: 入力!$AW$2:$BD$2
Name 男子支部: 入力!$AW$2:$BD$2
Name 男女混合: 入力!$AW$4:$BD$4

Sheet 入力
A1: 【入力用シート】これ以外のシートには入力しないでください
A2: フリガナ | C2: ウラヤスマックス | J2: 性別(男子・女子・男女混合) | P2: チーム所在地(市郡区) | AE2: 都道府県名 | AV2: 男子 | AW2: 茨城県 | AX2: 栃木県 | AY2: 群馬県 | AZ2: 埼玉県 | BA2: 東京都 | BB2: 神奈川県 | BC2: 山梨県 | BD2: 千葉県
A3: チーム名 | C3: 浦安ＭＡＸ | J3: 女子 | P3: 浦安市 | AE3: 千葉県 | AV3: 女子 | AW3: 茨城県 | AX3: 栃木県 | AY3: 群馬県 | AZ3: 埼玉県 | BA3: 東京都 | BB3: 神奈川県 | BC3: 山梨県 | BD3: 千葉県
A4: JVA-MRSチームID | C4: T10091623 | J4: チームID(大会プログラム用) | AV4: 男女混合 | AW4: 茨城県 | AX4: 栃木県 | AY4: 群馬県 | AZ4: 埼玉県 | BA4: 東京都 | BB4: 神奈川県 | BC4: 山梨県 | BD4: 千葉県
A5: MRSチームID(混合用) | J5: 120104
A6: 監督 | C6: ミョウジ 苗字 | E6: ナマエ 名前 | G6: JVA-MRSスタッフID | J6: 日小連講習受講No. | M6: 日体協資格No. | P6: 自宅住所 | AK6: 電話番号 | AT6: 年齢
C7: クリバヤシ | E7: ショウジ | G7: JVA000276580 | J7: 18404 | M7: 200769 | P7: 〒 | R7: ２７６ | V7: ― | W7: ００３３ | AK7: （ | AL7: ０９０ | AS7: ） | AT7: 47
C8: 栗林 | E8: 昇司 | P8: 千葉県八千代市八千代台南1-32-1 | AK8: ９３７６ | AO8: ― | AP8: ３８９７
A9: コーチ | C9: ササキ | E9: ミユキ | G9: JVA008320438 | P9: 〒 | R9: 279 | V9: ― | W9: 0002 | AK9: （ | AL9: 047 | AS9: ） | AT9: 50
C10: 佐々木 | E10: 深雪 | P10: 千葉県浦安市北栄4-8-17-505 | AK10: 305 | AO10: ― | AP10: 0354
A11: マネージャー | P11: 〒 | AK11: （ | AS11: ）
AO12: ―
A13: 帯同員
A15: 申込責任者 (連絡責任者) | C15: クリバヤシ | E15: ショウジ | G15: メールアドレス | J15: s.kuribayshi@gmail.com | P15: 〒 | R15: ２７６ | V15: ― | W15: ００３３ | AK15: （ | AL15: ０９０ | AS15: ） | AT15: 46
C16: 栗林 | E16: 昇司 | P16: 千葉県八千代市八千代台南1-32-1 | AK16: ９３７６ | AO16: ― | AP16: ３８９７
A17: 住所
A19: 電話番号
A21: 携帯電話番号 | C21: 090 | E21: 9376 | G21: 3897
A23: 選手No | B23: 背番号 | C23: ミョウジ | E23: ナマエ | G23: 学年 | I23: 学校名 | M23: JVA-MRSメンバーID | P23: 身長(cm) | U23: 男女
C24: 苗字 | E24: 名前 | Y24: 購入部数
A25: 1 | B25: ① | C25: イマイシ | E25: アズキ | G25: 6 | I25: 信篤小 | M25: JVA001426007 | P25: 145 | U25: 女 | Y25: 6
C26: 今石 | E26: 梓喜
A27: 2 | B27: 2 | C27: サカイ | E27: ユイナ | G27: 6 | I27: 信篤小 | M27: JVA001426014 | P27: 145 | U27: 女
C28: 酒井 | E28: 結菜
A29: 3 | B29: 3 | C29: タテシマ | E29: アンナ | G29: 6 | I29: 信篤小 | M29: JVA001425994 | P29: 142 | U29: 女
C30: 立島 | E30: 杏菜
A31: 4 | B31: 4 | C31: カジオカ | E31: イブキ | G31: 5 | I31: 入船小 | M31: JVA001031744 | P31: 140 | U31: 女
C32: 梶岡 | E32: 依歩希 | Y32: キャプテン
A33: 5 | B33: 5 | C33: イソザキ | E33: シオリ | G33: 5 | I33: 東小 | M33: JVA001234022 | P33: 135 | U33: 女 | Y33: 1
C34: 磯崎 | E34: 汐莉
A35: 6 | B35: 6 | C35: サイトウ | E35: アミ | G35: 5 | I35: 信篤小 | M35: JVA001323115 | P35: 150 | U35: 女
C36: 齊藤 | E36: 愛美
A37: 7 | B37: 7 | C37: キムラ | E37: リノ | G37: 5 | I37: 日の出南小 | M37: JVA001508833 | P37: 140 | U37: 女
C38: 木村 | E38: 莉乃
A39: 8 | B39: 8 | C39: ヒラノ | E39: ユイカ | G39: 3 | I39: 信篤小 | M39: JVA001487312 | P39: 142 | U39: 女
C40: 平野 | E40: 結香
A41: 9 | B41: 9 | C41: イマイシ | E41: コイト | G41: 3 | I41: 信篤小 | M41: JVA001505191 | P41: 135 | U41: 女
C42: 今石 | E42: 小絃
A43: 10 | B43: 10 | C43: アンドウ | E43: サラ | G43: 3 | I43: 高州北小 | M43: JVA024428064 | P43: 135 | U43: 女
C44: 安藤 | E44: 紗良
A45: 11 | B45: 11 | C45: タナカ | E45: サワ | G45: 3 | I45: 高州北小 | M45: JVA024429177 | P45: 135 | U45: 女
C46: 田中 | E46: 沙和
A47: 12
A49: 13
A51: 14
A54: チーム紹介コメント(120文字以内) | V54: コメント文字数
A55: 経験不足のチームですが、地道な基礎練習で培った成果を発揮して県大会出場を目指します！ | V55: =LEN(A55) -> 42

Sheet 申込書
A1: 第３８回関東小学生バレーボール大会 | AS1: 2022 年 月 日
B5: 関東小学生バレーボール大会参加申込書
B6: 都道府県
B7: =IF(入力!AE3="","",入力!AE3) -> 千葉県 | R7: 関東バレーボール連盟 殿 | AX7: =IF(入力!J3="","",入力!J3) -> 女子
R8: 関東小学生バレーボール連盟 殿
G11: 38
E12: 第 | J12: 回関東小学生バレーボール大会に下記のとおり参加申込致します。
B15: チーム名 ＆ チームID | G15: =IF(入力!C2="","",入力!C2) -> ウラヤスマックス | X15: チームID | AI15: チーム 所在地 | AM15: =IF(入力!P3="","",入力!P3) -> 浦安市 | AU15: 最寄駅 | BE15: 線
G16: =IF(入力!C3="","",入力!C3) -> 浦安ＭＡＸ | X16: =IF(入力!C4="","",入力!C4) -> T10091623
X17: =IF(入力!C5="","",入力!C5) | BE17: 駅
N18: 監 督 | AC18: コ ー チ | AR18: マネージャー
B19: 指導者講習会 受講証明書番号 | N19: =IF(入力!J7="","",入力!J7) -> 18404 | AC19: =IF(入力!J9="","",入力!J9) | AR19: =IF(入力!J11="","",入力!J11)
B21: 日本スポーツ協会の資格 及び登録番号 | N21: =IF(入力!M7="","",入力!M7) -> 200769 | AC21: =IF(入力!M9="","",入力!M9) | AR21: =IF(入力!M11="","",入力!M11)
B23: チームスタッフID登録番号 | N23: =IF(入力!G7="","",入力!G7) -> JVA000276580 | AC23: =IF(入力!G9="","",入力!G9) -> JVA008320438 | AR23: =IF(入力!G11="","",入力!G11)
B24: 監 督 | G24: =IF(AND(入力!C7<>"",入力!E7<>""),入力!C7&" "&入力!E7,"") -> クリバヤシ ショウジ | S24: =IF(入力!AT7="","",入力!AT7) -> 47 | V24: 住所 | Y24: 〒 | AA24: =IF(入力!R7="","",入力!R7) -> ２７６ | AE24: ― | AF24: =IF(入力!W7="","",入力!W7) -> ００３３ | AT24: 携帯 番号 | AW24: （ | AX24: =IF(入力!AL7="","",入力!AL7) -> ０９０ | BE24: ）
G25: =IF(AND(入力!C8<>"",入力!E8<>""),入力!C8&" "&入力!E8,"") -> 栗林 昇司 | Y25: =IF(入力!P8="","",入力!P8) -> 千葉県八千代市八千代台南1-32-1 | AW25: =IF(入力!AK8="","",入力!AK8) -> ９３７６ | BA25: ― | BB25: =IF(入力!AP8="","",入力!AP8) -> ３８９７
B26: コ ー チ | G26: =IF(AND(入力!C9<>"",入力!E9<>""),入力!C9&" "&入力!E9,"") -> ササキ ミユキ | S26: =IF(入力!AT9="","",入力!AT9) -> 50 | V26: 住所 | Y26: 〒 | AA26: =IF(入力!R9="","",入力!R9) -> 279 | AE26: ― | AF26: =IF(入力!W9="","",入力!W9) -> 0002 | AT26: 携帯 番号 | AW26: （ | AX26: =IF(入力!AL9="","",入力!AL9) -> 047 | BE26: ）
G27: =IF(AND(入力!C10<>"",入力!E10<>""),入力!C10&" "&入力!E10,"") -> 佐々木 深雪 | Y27: =IF(入力!P10="","",入力!P10) -> 千葉県浦安市北栄4-8-17-505 | AW27: =IF(入力!AK10="","",入力!AK10) -> 305 | BA27: ― | BB27: =IF(入力!AP10="","",入力!AP10) -> 0354
B28: マネージャー | G28: =IF(AND(入力!C11<>"",入力!E11<>""),入力!C11&" "&入力!E11,"") | S28: =IF(入力!AT11="","",入力!AT11) | V28: 住所 | Y28: 〒 | AA28: =IF(入力!R11="","",入力!R11) | AE28: ― | AF28: =IF(入力!W11="","",入力!W11) | AT28: 携帯 番号 | AW28: （ | AX28: =IF(入力!AL11="","",入力!AL11) | BE28: ）
G29: =IF(AND(入力!C12<>"",入力!E12<>""),入力!C12&" "&入力!E12,"") | Y29: =IF(入力!P12="","",入力!P12) | AW29: =IF(入力!AK12="","",入力!AK12) | BA29: ― | BB29: =IF(入力!AP12="","",入力!AP12)
B30: 連絡 責任者 | G30: =IF(AND(入力!C15<>"",入力!E15<>""),入力!C15&" "&入力!E15,"") -> クリバヤシ ショウジ | S30: E-mail | Y30: =IF(入力!J15="","",入力!J15) -> s.kuribayshi@gmail.com | AT30: 携帯 番号 | AW30: （ | AX30: =IF(入力!AL15="","",入力!AL15) -> ０９０ | BE30: ）
G31: =IF(AND(入力!C16<>"",入力!E16<>""),入力!C16&" "&入力!E16,"") -> 栗林 昇司 | AW31: =IF(入力!AK16="","",入力!AK16) -> ９３７６ | BA31: ― | BB31: =IF(入力!AP16="","",入力!AP16) -> ３８９７
B33: 選手名簿 | H33: （キャプテンの背番号を○で囲ってください。）
B34: 背番号 | E34: 氏 名 | P34: 学年 | S34: 男女 | V34: 学 校 名 | AL34: Ｉ Ｄ 番 号 | AY34: 身 長
B35: =IF(入力!B25="","",入力!B25) -> ① | E35: =IF(AND(入力!C25<>"",入力!E25<>""),入力!C25&" "&入力!E25,"") -> イマイシ アズキ | P35: =IF(入力!G25="","",入力!G25) -> 6 | S35: =IF(入力!U25="","",入力!U25) -> 女 | V35: =IF(入力!I25="","",入力!I25) -> 信篤小 | AL35: =IF(入力!M25="","",入力!M25) -> JVA001426007 | AY35: =IF(入力!P25="","",入力!P25) -> 145
E36: =IF(AND(入力!C26<>"",入力!E26<>""),入力!C26&" "&入力!E26,"") -> 今石 梓喜
B37: =IF(入力!B27="","",入力!B27) -> 2 | E37: =IF(AND(入力!C27<>"",入力!E27<>""),入力!C27&" "&入力!E27,"") -> サカイ ユイナ | P37: =IF(入力!G27="","",入力!G27) -> 6 | S37: =IF(入力!U27="","",入力!U27) -> 女 | V37: =IF(入力!I27="","",入力!I27) -> 信篤小 | AL37: =IF(入力!M27="","",入力!M27) -> JVA001426014 | AY37: =IF(入力!P27="","",入力!P27) -> 145
E38: =IF(AND(入力!C28<>"",入力!E28<>""),入力!C28&" "&入力!E28,"") -> 酒井 結菜
B39: =IF(入力!B29="","",入力!B29) -> 3 | E39: =IF(AND(入力!C29<>"",入力!E29<>""),入力!C29&" "&入力!E29,"") -> タテシマ アンナ | P39: =IF(入力!G29="","",入力!G29) -> 6 | S39: =IF(入力!U29="","",入力!U29) -> 女 | V39: =IF(入力!I29="","",入力!I29) -> 信篤小 | AL39: =IF(入力!M29="","",入力!M29) -> JVA001425994 | AY39: =IF(入力!P29="","",入力!P29) -> 142
E40: =IF(AND(入力!C30<>"",入力!E30<>""),入力!C30&" "&入力!E30,"") -> 立島 杏菜
B41: =IF(入力!B31="","",入力!B31) -> 4 | E41: =IF(AND(入力!C31<>"",入力!E31<>""),入力!C31&" "&入力!E31,"") -> カジオカ イブキ | P41: =IF(入力!G31="","",入力!G31) -> 5 | S41: =IF(入力!U31="","",入力!U31) -> 女 | V41: =IF(入力!I31="","",入力!I31) -> 入船小 | AL41: =IF(入力!M31="","",入力!M31) -> JVA001031744 | AY41: =IF(入力!P31="","",入力!P31) -> 140
E42: =IF(AND(入力!C32<>"",入力!E32<>""),入力!C32&" "&入力!E32,"") -> 梶岡 依歩希
B43: =IF(入力!B33="","",入力!B33) -> 5 | E43: =IF(AND(入力!C33<>"",入力!E33<>""),入力!C33&" "&入力!E33,"") -> イソザキ シオリ | P43: =IF(入力!G33="","",入力!G33) -> 5 | S43: =IF(入力!U33="","",入力!U33) -> 女 | V43: =IF(入力!I33="","",入力!I33) -> 東小 | AL43: =IF(入力!M33="","",入力!M33) -> JVA001234022 | AY43: =IF(入力!P33="","",入力!P33) -> 135
E44: =IF(AND(入力!C34<>"",入力!E34<>""),入力!C34&" "&入力!E34,"") -> 磯崎 汐莉
B45: =IF(入力!B35="","",入力!B35) -> 6 | E45: =IF(AND(入力!C35<>"",入力!E35<>""),入力!C35&" "&入力!E35,"") -> サイトウ アミ | P45: =IF(入力!G35="","",入力!G35) -> 5 | S45: =IF(入力!U35="","",入力!U35) -> 女 | V45: =IF(入力!I35="","",入力!I35) -> 信篤小 | AL45: =IF(入力!M35="","",入力!M35) -> JVA001323115 | AY45: =IF(入力!P35="","",入力!P35) -> 150
E46: =IF(AND(入力!C36<>"",入力!E36<>""),入力!C36&" "&入力!E36,"") -> 齊藤 愛美
B47: =IF(入力!B37="","",入力!B37) -> 7 | E47: =IF(AND(入力!C37<>"",入力!E37<>""),入力!C37&" "&入力!E37,"") -> キムラ リノ | P47: =IF(入力!G37="","",入力!G37) -> 5 | S47: =IF(入力!U37="","",入力!U37) -> 女 | V47: =IF(入力!I37="","",入力!I37) -> 日の出南小 | AL47: =IF(入力!M37="","",入力!M37) -> JVA001508833 | AY47: =IF(入力!P37="","",入力!P37) -> 140
E48: =IF(AND(入力!C38<>"",入力!E38<>""),入力!C38&" "&入力!E38,"") -> 木村 莉乃
B49: =IF(入力!B39="","",入力!B39) -> 8 | E49: =IF(AND(入力!C39<>"",入力!E39<>""),入力!C39&" "&入力!E39,"") -> ヒラノ ユイカ | P49: =IF(入力!G39="","",入力!G39) -> 3 | S49: =IF(入力!U39="","",入力!U39) -> 女 | V49: =IF(入力!I39="","",入力!I39) -> 信篤小 | AL49: =IF(入力!M39="","",入力!M39) -> JVA001487312 | AY49: =IF(入力!P39="","",入力!P39) -> 142
E50: =IF(AND(入力!C40<>"",入力!E40<>""),入力!C40&" "&入力!E40,"") -> 平野 結香
B51: =IF(入力!B41="","",入力!B41) -> 9 | E51: =IF(AND(入力!C41<>"",入力!E41<>""),入力!C41&" "&入力!E41,"") -> イマイシ コイト | P51: =IF(入力!G41="","",入力!G41) -> 3 | S51: =IF(入力!U41="","",入力!U41) -> 女 | V51: =IF(入力!I41="","",入力!I41) -> 信篤小 | AL51: =IF(入力!M41="","",入力!M41) -> JVA001505191 | AY51: =IF(入力!P41="","",入力!P41) -> 135
E52: =IF(AND(入力!C42<>"",入力!E42<>""),入力!C42&" "&入力!E42,"") -> 今石 小絃
B53: =IF(入力!B43="","",入力!B43) -> 10 | E53: =IF(AND(入力!C43<>"",入力!E43<>""),入力!C43&" "&入力!E43,"") -> アンドウ サラ | P53: =IF(入力!G43="","",入力!G43) -> 3 | S53: =IF(入力!U43="","",入力!U43) -> 女 | V53: =IF(入力!I43="","",入力!I43) -> 高州北小 | AL53: =IF(入力!M43="","",入力!M43) -> JVA024428064 | AY53: =IF(入力!P43="","",入力!P43) -> 135
E54: =IF(AND(入力!C44<>"",入力!E44<>""),入力!C44&" "&入力!E44,"") -> 安藤 紗良
B55: =IF(入力!B45="","",入力!B45) -> 11 | E55: =IF(AND(入力!C45<>"",入力!E45<>""),入力!C45&" "&入力!E45,"") -> タナカ サワ | P55: =IF(入力!G45="","",入力!G45) -> 3 | S55: =IF(入力!U45="","",入力!U45) -> 女 | V55: =IF(入力!I45="","",入力!I45) -> 高州北小 | AL55: =IF(入力!M45="","",入力!M45) -> JVA024429177 | AY55: =IF(入力!P45="","",入力!P45) -> 135
E56: =IF(AND(入力!C46<>"",入力!E46<>""),入力!C46&" "&入力!E46,"") -> 田中 沙和
B57: =IF(入力!B47="","",入力!B47) | E57: =IF(AND(入力!C47<>"",入力!E47<>""),入力!C47&" "&入力!E47,"") | P57: =IF(入力!G47="","",入力!G47) | S57: =IF(入力!U47="","",入力!U47) | V57: =IF(入力!I47="","",入力!I47) | AL57: =IF(入力!M47="","",入力!M47) | AY57: =IF(入力!P47="","",入力!P47)
E58: =IF(AND(入力!C48<>"",入力!E48<>""),入力!C48&" "&入力!E48,"")
B59: =IF(入力!B49="","",入力!B49) | E59: =IF(AND(入力!C49<>"",入力!E49<>""),入力!C49&" "&入力!E49,"") | P59: =IF(入力!G49="","",入力!G49) | S59: =IF(入力!U49="","",入力!U49) | V59: =IF(入力!I49="","",入力!I49) | AL59: =IF(入力!M49="","",入力!M49) | AY59: =IF(入力!P49="","",入力!P49)
E60: =IF(AND(入力!C50<>"",入力!E50<>""),入力!C50&" "&入力!E50,"")
B61: =IF(入力!B51="","",入力!B51) | E61: =IF(AND(入力!C51<>"",入力!E51<>""),入力!C51&" "&入力!E51,"") | P61: =IF(入力!G51="","",入力!G51) | S61: =IF(入力!U51="","",入力!U51) | V61: =IF(入力!I51="","",入力!I51) | AL61: =IF(入力!M51="","",入力!M51) | AY61: =IF(入力!P51="","",入力!P51)
E62: =IF(AND(入力!C52<>"",入力!E52<>""),入力!C52&" "&入力!E52,"")
B64: ※関東大会に出場するチームはこの申込書と同じ選手名で申込をする事になりますので、選手名を記入する際には充分に注意をしてください。
B65: ※大会参加申込書は、Excelデータで都道府県小連にメール添付にて送付し、１部コピーをチームで保管し、本大会出場チームは必ず控（コピー）を持参すること。
B66: ※チーム名、氏名には必ずフリガナを記入してください。
B67: ※学校名は、市区町村から記入すること。（例：○○立○○小学校） | AM67: 申込責任者 | AV67: =G31 -> 栗林 昇司
B68: ※チーム所在地は、チームが主として活動する所在地を記入してください。

Sheet オーダー表（14名）
A1: チーム名 | B1: =IF(入力!$C$3="","",入力!$C$3) -> 浦安ＭＡＸ | D1: チーム名 | E1: =IF(入力!$C$3="","",入力!$C$3) -> 浦安ＭＡＸ | G1: チーム名 | H1: =IF(入力!$C$3="","",入力!$C$3) -> 浦安ＭＡＸ | J1: チーム名 | K1: =IF(入力!$C$3="","",入力!$C$3) -> 浦安ＭＡＸ
A4: 競技者 番号 | B4: 氏名 | D4: 競技者 番号 | E4: 氏名 | G4: 競技者 番号 | H4: 氏名 | J4: 競技者 番号 | K4: 氏名
A7: =IF(申込書!$B$35="","",申込書!$B$35) -> ① | B7: =IF(申込書!$E$36="","",申込書!$E$36) -> 今石 梓喜 | D7: =IF(申込書!$B$35="","",申込書!$B$35) -> ① | E7: =IF(申込書!$E$36="","",申込書!$E$36) -> 今石 梓喜 | G7: =IF(申込書!$B$35="","",申込書!$B$35) -> ① | H7: =IF(申込書!$E$36="","",申込書!$E$36) -> 今石 梓喜 | J7: =IF(申込書!$B$35="","",申込書!$B$35) -> ① | K7: =IF(申込書!$E$36="","",申込書!$E$36) -> 今石 梓喜
A8: =IF(申込書!$B$37="","",申込書!$B$37) -> 2 | B8: =IF(申込書!$E$38="","",申込書!$E$38) -> 酒井 結菜 | D8: =IF(申込書!$B$37="","",申込書!$B$37) -> 2 | E8: =IF(申込書!$E$38="","",申込書!$E$38) -> 酒井 結菜 | G8: =IF(申込書!$B$37="","",申込書!$B$37) -> 2 | H8: =IF(申込書!$E$38="","",申込書!$E$38) -> 酒井 結菜 | J8: =IF(申込書!$B$37="","",申込書!$B$37) -> 2 | K8: =IF(申込書!$E$38="","",申込書!$E$38) -> 酒井 結菜
A9: =IF(申込書!$B$39="","",申込書!$B$39) -> 3 | B9: =IF(申込書!$E$40="","",申込書!$E$40) -> 立島 杏菜 | D9: =IF(申込書!$B$39="","",申込書!$B$39) -> 3 | E9: =IF(申込書!$E$40="","",申込書!$E$40) -> 立島 杏菜 | G9: =IF(申込書!$B$39="","",申込書!$B$39) -> 3 | H9: =IF(申込書!$E$40="","",申込書!$E$40) -> 立島 杏菜 | J9: =IF(申込書!$B$39="","",申込書!$B$39) -> 3 | K9: =IF(申込書!$E$40="","",申込書!$E$40) -> 立島 杏菜
A10: =IF(申込書!$B$41="","",申込書!$B$41) -> 4 | B10: =IF(申込書!$E$42="","",申込書!$E$42) -> 梶岡 依歩希 | D10: =IF(申込書!$B$41="","",申込書!$B$41) -> 4 | E10: =IF(申込書!$E$42="","",申込書!$E$42) -> 梶岡 依歩希 | G10: =IF(申込書!$B$41="","",申込書!$B$41) -> 4 | H10: =IF(申込書!$E$42="","",申込書!$E$42) -> 梶岡 依歩希 | J10: =IF(申込書!$B$41="","",申込書!$B$41) -> 4 | K10: =IF(申込書!$E$42="","",申込書!$E$42) -> 梶岡 依歩希
A11: =IF(申込書!$B$43="","",申込書!$B$43) -> 5 | B11: =IF(申込書!$E$44="","",申込書!$E$44) -> 磯崎 汐莉 | D11: =IF(申込書!$B$43="","",申込書!$B$43) -> 5 | E11: =IF(申込書!$E$44="","",申込書!$E$44) -> 磯崎 汐莉 | G11: =IF(申込書!$B$43="","",申込書!$B$43) -> 5 | H11: =IF(申込書!$E$44="","",申込書!$E$44) -> 磯崎 汐莉 | J11: =IF(申込書!$B$43="","",申込書!$B$43) -> 5 | K11: =IF(申込書!$E$44="","",申込書!$E$44) -> 磯崎 汐莉
A12: =IF(申込書!$B$45="","",申込書!$B$45) -> 6 | B12: =IF(申込書!$E$46="","",申込書!$E$46) -> 齊藤 愛美 | D12: =IF(申込書!$B$45="","",申込書!$B$45) -> 6 | E12: =IF(申込書!$E$46="","",申込書!$E$46) -> 齊藤 愛美 | G12: =IF(申込書!$B$45="","",申込書!$B$45) -> 6 | H12: =IF(申込書!$E$46="","",申込書!$E$46) -> 齊藤 愛美 | J12: =IF(申込書!$B$45="","",申込書!$B$45) -> 6 | K12: =IF(申込書!$E$46="","",申込書!$E$46) -> 齊藤 愛美
A13: =IF(申込書!$B$47="","",申込書!$B$47) -> 7 | B13: =IF(申込書!$E$48="","",申込書!$E$48) -> 木村 莉乃 | D13: =IF(申込書!$B$47="","",申込書!$B$47) -> 7 | E13: =IF(申込書!$E$48="","",申込書!$E$48) -> 木村 莉乃 | G13: =IF(申込書!$B$47="","",申込書!$B$47) -> 7 | H13: =IF(申込書!$E$48="","",申込書!$E$48) -> 木村 莉乃 | J13: =IF(申込書!$B$47="","",申込書!$B$47) -> 7 | K13: =IF(申込書!$E$48="","",申込書!$E$48) -> 木村 莉乃
A14: =IF(申込書!$B$49="","",申込書!$B$49) -> 8 | B14: =IF(申込書!$E$50="","",申込書!$E$50) -> 平野 結香 | D14: =IF(申込書!$B$49="","",申込書!$B$49) -> 8 | E14: =IF(申込書!$E$50="","",申込書!$E$50) -> 平野 結香 | G14: =IF(申込書!$B$49="","",申込書!$B$49) -> 8 | H14: =IF(申込書!$E$50="","",申込書!$E$50) -> 平野 結香 | J14: =IF(申込書!$B$49="","",申込書!$B$49) -> 8 | K14: =IF(申込書!$E$50="","",申込書!$E$50) -> 平野 結香
A15: =IF(申込書!$B$51="","",申込書!$B$51) -> 9 | B15: =IF(申込書!$E$52="","",申込書!$E$52) -> 今石 小絃 | D15: =IF(申込書!$B$51="","",申込書!$B$51) -> 9 | E15: =IF(申込書!$E$52="","",申込書!$E$52) -> 今石 小絃 | G15: =IF(申込書!$B$51="","",申込書!$B$51) -> 9 | H15: =IF(申込書!$E$52="","",申込書!$E$52) -> 今石 小絃 | J15: =IF(申込書!$B$51="","",申込書!$B$51) -> 9 | K15: =IF(申込書!$E$52="","",申込書!$E$52) -> 今石 小絃
A16: =IF(申込書!$B$53="","",申込書!$B$53) -> 10 | B16: =IF(申込書!$E$54="","",申込書!$E$54) -> 安藤 紗良 | D16: =IF(申込書!$B$53="","",申込書!$B$53) -> 10 | E16: =IF(申込書!$E$54="","",申込書!$E$54) -> 安藤 紗良 | G16: =IF(申込書!$B$53="","",申込書!$B$53) -> 10 | H16: =IF(申込書!$E$54="","",申込書!$E$54) -> 安藤 紗良 | J16: =IF(申込書!$B$53="","",申込書!$B$53) -> 10 | K16: =IF(申込書!$E$54="","",申込書!$E$54) -> 安藤 紗良
A17: =IF(申込書!$B$55="","",申込書!$B$55) -> 11 | B17: =IF(申込書!$E$56="","",申込書!$E$56) -> 田中 沙和 | D17: =IF(申込書!$B$55="","",申込書!$B$55) -> 11 | E17: =IF(申込書!$E$56="","",申込書!$E$56) -> 田中 沙和 | G17: =IF(申込書!$B$55="","",申込書!$B$55) -> 11 | H17: =IF(申込書!$E$56="","",申込書!$E$56) -> 田中 沙和 | J17: =IF(申込書!$B$55="","",申込書!$B$55) -> 11 | K17: =IF(申込書!$E$56="","",申込書!$E$56) -> 田中 沙和
A18: =IF(申込書!$B$57="","",申込書!$B$57) | B18: =IF(申込書!$E$58="","",申込書!$E$58) | D18: =IF(申込書!$B$57="","",申込書!$B$57) | E18: =IF(申込書!$E$58="","",申込書!$E$58) | G18: =IF(申込書!$B$57="","",申込書!$B$57) | H18: =IF(申込書!$E$58="","",申込書!$E$58) | J18: =IF(申込書!$B$57="","",申込書!$B$57) | K18: =IF(申込書!$E$58="","",申込書!$E$58)
A19: =IF(申込書!$B$59="","",申込書!$B$59) | B19: =IF(申込書!$E$60="","",申込書!$E$60) | D19: =IF(申込書!$B$59="","",申込書!$B$59) | E19: =IF(申込書!$E$60="","",申込書!$E$60) | G19: =IF(申込書!$B$59="","",申込書!$B$59) | H19: =IF(申込書!$E$60="","",申込書!$E$60) | J19: =IF(申込書!$B$59="","",申込書!$B$59) | K19: =IF(申込書!$E$60="","",申込書!$E$60)
A20: =IF(申込書!$B$61="","",申込書!$B$61) | B20: =IF(申込書!$E$62="","",申込書!$E$62) | D20: =IF(申込書!$B$61="","",申込書!$B$61) | E20: =IF(申込書!$E$62="","",申込書!$E$62) | G20: =IF(申込書!$B$61="","",申込書!$B$61) | H20: =IF(申込書!$E$62="","",申込書!$E$62) | J20: =IF(申込書!$B$61="","",申込書!$B$61) | K20: =IF(申込書!$E$62="","",申込書!$E$62)
A22: チーム名 | B22: =IF(入力!$C$3="","",入力!$C$3) -> 浦安ＭＡＸ | D22: チーム名 | E22: =IF(入力!$C$3="","",入力!$C$3) -> 浦安ＭＡＸ | G22: チーム名 | H22: =IF(入力!$C$3="","",入力!$C$3) -> 浦安ＭＡＸ | J22: チーム名 | K22: =IF(入力!$C$3="","",入力!$C$3) -> 浦安ＭＡＸ
A25: 競技者 番号 | B25: 氏名 | D25: 競技者 番号 | E25: 氏名 | G25: 競技者 番号 | H25: 氏名 | J25: 競技者 番号 | K25: 氏名
A28: =IF(申込書!$B$35="","",申込書!$B$35) -> ① | B28: =IF(申込書!$E$36="","",申込書!$E$36) -> 今石 梓喜 | D28: =IF(申込書!$B$35="","",申込書!$B$35) -> ① | E28: =IF(申込書!$E$36="","",申込書!$E$36) -> 今石 梓喜 | G28: =IF(申込書!$B$35="","",申込書!$B$35) -> ① | H28: =IF(申込書!$E$36="","",申込書!$E$36) -> 今石 梓喜 | J28: =IF(申込書!$B$35="","",申込書!$B$35) -> ① | K28: =IF(申込書!$E$36="","",申込書!$E$36) -> 今石 梓喜
A29: =IF(申込書!$B$37="","",申込書!$B$37) -> 2 | B29: =IF(申込書!$E$38="","",申込書!$E$38) -> 酒井 結菜 | D29: =IF(申込書!$B$37="","",申込書!$B$37) -> 2 | E29: =IF(申込書!$E$38="","",申込書!$E$38) -> 酒井 結菜 | G29: =IF(申込書!$B$37="","",申込書!$B$37) -> 2 | H29: =IF(申込書!$E$38="","",申込書!$E$38) -> 酒井 結菜 | J29: =IF(申込書!$B$37="","",申込書!$B$37) -> 2 | K29: =IF(申込書!$E$38="","",申込書!$E$38) -> 酒井 結菜
A30: =IF(申込書!$B$39="","",申込書!$B$39) -> 3 | B30: =IF(申込書!$E$40="","",申込書!$E$40) -> 立島 杏菜 | D30: =IF(申込書!$B$39="","",申込書!$B$39) -> 3 | E30: =IF(申込書!$E$40="","",申込書!$E$40) -> 立島 杏菜 | G30: =IF(申込書!$B$39="","",申込書!$B$39) -> 3 | H30: =IF(申込書!$E$40="","",申込書!$E$40) -> 立島 杏菜 | J30: =IF(申込書!$B$39="","",申込書!$B$39) -> 3 | K30: =IF(申込書!$E$40="","",申込書!$E$40) -> 立島 杏菜
A31: =IF(申込書!$B$41="","",申込書!$B$41) -> 4 | B31: =IF(申込書!$E$42="","",申込書!$E$42) -> 梶岡 依歩希 | D31: =IF(申込書!$B$41="","",申込書!$B$41) -> 4 | E31: =IF(申込書!$E$42="","",申込書!$E$42) -> 梶岡 依歩希 | G31: =IF(申込書!$B$41="","",申込書!$B$41) -> 4 | H31: =IF(申込書!$E$42="","",申込書!$E$42) -> 梶岡 依歩希 | J31: =IF(申込書!$B$41="","",申込書!$B$41) -> 4 | K31: =IF(申込書!$E$42="","",申込書!$E$42) -> 梶岡 依歩希
A32: =IF(申込書!$B$43="","",申込書!$B$43) -> 5 | B32: =IF(申込書!$E$44="","",申込書!$E$44) -> 磯崎 汐莉 | D32: =IF(申込書!$B$43="","",申込書!$B$43) -> 5 | E32: =IF(申込書!$E$44="","",申込書!$E$44) -> 磯崎 汐莉 | G32: =IF(申込書!$B$43="","",申込書!$B$43) -> 5 | H32: =IF(申込書!$E$44="","",申込書!$E$44) -> 磯崎 汐莉 | J32: =IF(申込書!$B$43="","",申込書!$B$43) -> 5 | K32: =IF(申込書!$E$44="","",申込書!$E$44) -> 磯崎 汐莉
A33: =IF(申込書!$B$45="","",申込書!$B$45) -> 6 | B33: =IF(申込書!$E$46="","",申込書!$E$46) -> 齊藤 愛美 | D33: =IF(申込書!$B$45="","",申込書!$B$45) -> 6 | E33: =IF(申込書!$E$46="","",申込書!$E$46) -> 齊藤 愛美 | G33: =IF(申込書!$B$45="","",申込書!$B$45) -> 6 | H33: =IF(申込書!$E$46="","",申込書!$E$46) -> 齊藤 愛美 | J33: =IF(申込書!$B$45="","",申込書!$B$45) -> 6 | K33: =IF(申込書!$E$46="","",申込書!$E$46) -> 齊藤 愛美
A34: =IF(申込書!$B$47="","",申込書!$B$47) -> 7 | B34: =IF(申込書!$E$48="","",申込書!$E$48) -> 木村 莉乃 | D34: =IF(申込書!$B$47="","",申込書!$B$47) -> 7 | E34: =IF(申込書!$E$48="","",申込書!$E$48) -> 木村 莉乃 | G34: =IF(申込書!$B$47="","",申込書!$B$47) -> 7 | H34: =IF(申込書!$E$48="","",申込書!$E$48) -> 木村 莉乃 | J34: =IF(申込書!$B$47="","",申込書!$B$47) -> 7 | K34: =IF(申込書!$E$48="","",申込書!$E$48) -> 木村 莉乃
A35: =IF(申込書!$B$49="","",申込書!$B$49) -> 8 | B35: =IF(申込書!$E$50="","",申込書!$E$50) -> 平野 結香 | D35: =IF(申込書!$B$49="","",申込書!$B$49) -> 8 | E35: =IF(申込書!$E$50="","",申込書!$E$50) -> 平野 結香 | G35: =IF(申込書!$B$49="","",申込書!$B$49) -> 8 | H35: =IF(申込書!$E$50="","",申込書!$E$50) -> 平野 結香 | J35: =IF(申込書!$B$49="","",申込書!$B$49) -> 8 | K35: =IF(申込書!$E$50="","",申込書!$E$50) -> 平野 結香
A36: =IF(申込書!$B$51="","",申込書!$B$51) -> 9 | B36: =IF(申込書!$E$52="","",申込書!$E$52) -> 今石 小絃 | D36: =IF(申込書!$B$51="","",申込書!$B$51) -> 9 | E36: =IF(申込書!$E$52="","",申込書!$E$52) -> 今石 小絃 | G36: =IF(申込書!$B$51="","",申込書!$B$51) -> 9 | H36: =IF(申込書!$E$52="","",申込書!$E$52) -> 今石 小絃 | J36: =IF(申込書!$B$51="","",申込書!$B$51) -> 9 | K36: =IF(申込書!$E$52="","",申込書!$E$52) -> 今石 小絃
A37: =IF(申込書!$B$53="","",申込書!$B$53) -> 10 | B37: =IF(申込書!$E$54="","",申込書!$E$54) -> 安藤 紗良 | D37: =IF(申込書!$B$53="","",申込書!$B$53) -> 10 | E37: =IF(申込書!$E$54="","",申込書!$E$54) -> 安藤 紗良 | G37: =IF(申込書!$B$53="","",申込書!$B$53) -> 10 | H37: =IF(申込書!$E$54="","",申込書!$E$54) -> 安藤 紗良 | J37: =IF(申込書!$B$53="","",申込書!$B$53) -> 10 | K37: =IF(申込書!$E$54="","",申込書!$E$54) -> 安藤 紗良
A38: =IF(申込書!$B$55="","",申込書!$B$55) -> 11 | B38: =IF(申込書!$E$56="","",申込書!$E$56) -> 田中 沙和 | D38: =IF(申込書!$B$55="","",申込書!$B$55) -> 11 | E38: =IF(申込書!$E$56="","",申込書!$E$56) -> 田中 沙和 | G38: =IF(申込書!$B$55="","",申込書!$B$55) -> 11 | H38: =IF(申込書!$E$56="","",申込書!$E$56) -> 田中 沙和 | J38: =IF(申込書!$B$55="","",申込書!$B$55) -> 11 | K38: =IF(申込書!$E$56="","",申込書!$E$56) -> 田中 沙和
A39: =IF(申込書!$B$57="","",申込書!$B$57) | B39: =IF(申込書!$E$58="","",申込書!$E$58) | D39: =IF(申込書!$B$57="","",申込書!$B$57) | E39: =IF(申込書!$E$58="","",申込書!$E$58) | G39: =IF(申込書!$B$57="","",申込書!$B$57) | H39: =IF(申込書!$E$58="","",申込書!$E$58) | J39: =IF(申込書!$B$57="","",申込書!$B$57) | K39: =IF(申込書!$E$58="","",申込書!$E$58)
A40: =IF(申込書!$B$59="","",申込書!$B$59) | B40: =IF(申込書!$E$60="","",申込書!$E$60) | D40: =IF(申込書!$B$59="","",申込書!$B$59) | E40: =IF(申込書!$E$60="","",申込書!$E$60) | G40: =IF(申込書!$B$59="","",申込書!$B$59) | H40: =IF(申込書!$E$60="","",申込書!$E$60) | J40: =IF(申込書!$B$59="","",申込書!$B$59) | K40: =IF(申込書!$E$60="","",申込書!$E$60)
A41: =IF(申込書!$B$61="","",申込書!$B$61) | B41: =IF(申込書!$E$62="","",申込書!$E$62) | D41: =IF(申込書!$B$61="","",申込書!$B$61) | E41: =IF(申込書!$E$62="","",申込書!$E$62) | G41: =IF(申込書!$B$61="","",申込書!$B$61) | H41: =IF(申込書!$E$62="","",申込書!$E$62) | J41: =IF(申込書!$B$61="","",申込書!$B$61) | K41: =IF(申込書!$E$62="","",申込書!$E$62)
A43: チーム名 | B43: =IF(入力!$C$3="","",入力!$C$3) -> 浦安ＭＡＸ | D43: チーム名 | E43: =IF(入力!$C$3="","",入力!$C$3) -> 浦安ＭＡＸ | G43: チーム名 | H43: =IF(入力!$C$3="","",入力!$C$3) -> 浦安ＭＡＸ | J43: チーム名 | K43: =IF(入力!$C$3="","",入力!$C$3) -> 浦安ＭＡＸ
A46: 競技者 番号 | B46: 氏名 | D46: 競技者 番号 | E46: 氏名 | G46: 競技者 番号 | H46: 氏名 | J46: 競技者 番号 | K46: 氏名
A49: =IF(申込書!$B$35="","",申込書!$B$35) -> ① | B49: =IF(申込書!$E$36="","",申込書!$E$36) -> 今石 梓喜 | D49: =IF(申込書!$B$35="","",申込書!$B$35) -> ① | E49: =IF(申込書!$E$36="","",申込書!$E$36) -> 今石 梓喜 | G49: =IF(申込書!$B$35="","",申込書!$B$35) -> ① | H49: =IF(申込書!$E$36="","",申込書!$E$36) -> 今石 梓喜 | J49: =IF(申込書!$B$35="","",申込書!$B$35) -> ① | K49: =IF(申込書!$E$36="","",申込書!$E$36) -> 今石 梓喜
A50: =IF(申込書!$B$37="","",申込書!$B$37) -> 2 | B50: =IF(申込書!$E$38="","",申込書!$E$38) -> 酒井 結菜 | D50: =IF(申込書!$B$37="","",申込書!$B$37) -> 2 | E50: =IF(申込書!$E$38="","",申込書!$E$38) -> 酒井 結菜 | G50: =IF(申込書!$B$37="","",申込書!$B$37) -> 2 | H50: =IF(申込書!$E$38="","",申込書!$E$38) -> 酒井 結菜 | J50: =IF(申込書!$B$37="","",申込書!$B$37) -> 2 | K50: =IF(申込書!$E$38="","",申込書!$E$38) -> 酒井 結菜
A51: =IF(申込書!$B$39="","",申込書!$B$39) -> 3 | B51: =IF(申込書!$E$40="","",申込書!$E$40) -> 立島 杏菜 | D51: =IF(申込書!$B$39="","",申込書!$B$39) -> 3 | E51: =IF(申込書!$E$40="","",申込書!$E$40) -> 立島 杏菜 | G51: =IF(申込書!$B$39="","",申込書!$B$39) -> 3 | H51: =IF(申込書!$E$40="","",申込書!$E$40) -> 立島 杏菜 | J51: =IF(申込書!$B$39="","",申込書!$B$39) -> 3 | K51: =IF(申込書!$E$40="","",申込書!$E$40) -> 立島 杏菜
A52: =IF(申込書!$B$41="","",申込書!$B$41) -> 4 | B52: =IF(申込書!$E$42="","",申込書!$E$42) -> 梶岡 依歩希 | D52: =IF(申込書!$B$41="","",申込書!$B$41) -> 4 | E52: =IF(申込書!$E$42="","",申込書!$E$42) -> 梶岡 依歩希 | G52: =IF(申込書!$B$41="","",申込書!$B$41) -> 4 | H52: =IF(申込書!$E$42="","",申込書!$E$42) -> 梶岡 依歩希 | J52: =IF(申込書!$B$41="","",申込書!$B$41) -> 4 | K52: =IF(申込書!$E$42="","",申込書!$E$42) -> 梶岡 依歩希
A53: =IF(申込書!$B$43="","",申込書!$B$43) -> 5 | B53: =IF(申込書!$E$44="","",申込書!$E$44) -> 磯崎 汐莉 | D53: =IF(申込書!$B$43="","",申込書!$B$43) -> 5 | E53: =IF(申込書!$E$44="","",申込書!$E$44) -> 磯崎 汐莉 | G53: =IF(申込書!$B$43="","",申込書!$B$43) -> 5 | H53: =IF(申込書!$E$44="","",申込書!$E$44) -> 磯崎 汐莉 | J53: =IF(申込書!$B$43="","",申込書!$B$43) -> 5 | K53: =IF(申込書!$E$44="","",申込書!$E$44) -> 磯崎 汐莉
A54: =IF(申込書!$B$45="","",申込書!$B$45) -> 6 | B54: =IF(申込書!$E$46="","",申込書!$E$46) -> 齊藤 愛美 | D54: =IF(申込書!$B$45="","",申込書!$B$45) -> 6 | E54: =IF(申込書!$E$46="","",申込書!$E$46) -> 齊藤 愛美 | G54: =IF(申込書!$B$45="","",申込書!$B$45) -> 6 | H54: =IF(申込書!$E$46="","",申込書!$E$46) -> 齊藤 愛美 | J54: =IF(申込書!$B$45="","",申込書!$B$45) -> 6 | K54: =IF(申込書!$E$46="","",申込書!$E$46) -> 齊藤 愛美
A55: =IF(申込書!$B$47="","",申込書!$B$47) -> 7 | B55: =IF(申込書!$E$48="","",申込書!$E$48) -> 木村 莉乃 | D55: =IF(申込書!$B$47="","",申込書!$B$47) -> 7 | E55: =IF(申込書!$E$48="","",申込書!$E$48) -> 木村 莉乃 | G55: =IF(申込書!$B$47="","",申込書!$B$47) -> 7 | H55: =IF(申込書!$E$48="","",申込書!$E$48) -> 木村 莉乃 | J55: =IF(申込書!$B$47="","",申込書!$B$47) -> 7 | K55: =IF(申込書!$E$48="","",申込書!$E$48) -> 木村 莉乃
A56: =IF(申込書!$B$49="","",申込書!$B$49) -> 8 | B56: =IF(申込書!$E$50="","",申込書!$E$50) -> 平野 結香 | D56: =IF(申込書!$B$49="","",申込書!$B$49) -> 8 | E56: =IF(申込書!$E$50="","",申込書!$E$50) -> 平野 結香 | G56: =IF(申込書!$B$49="","",申込書!$B$49) -> 8 | H56: =IF(申込書!$E$50="","",申込書!$E$50) -> 平野 結香 | J56: =IF(申込書!$B$49="","",申込書!$B$49) -> 8 | K56: =IF(申込書!$E$50="","",申込書!$E$50) -> 平野 結香
A57: =IF(申込書!$B$51="","",申込書!$B$51) -> 9 | B57: =IF(申込書!$E$52="","",申込書!$E$52) -> 今石 小絃 | D57: =IF(申込書!$B$51="","",申込書!$B$51) -> 9 | E57: =IF(申込書!$E$52="","",申込書!$E$52) -> 今石 小絃 | G57: =IF(申込書!$B$51="","",申込書!$B$51) -> 9 | H57: =IF(申込書!$E$52="","",申込書!$E$52) -> 今石 小絃 | J57: =IF(申込書!$B$51="","",申込書!$B$51) -> 9 | K57: =IF(申込書!$E$52="","",申込書!$E$52) -> 今石 小絃
A58: =IF(申込書!$B$53="","",申込書!$B$53) -> 10 | B58: =IF(申込書!$E$54="","",申込書!$E$54) -> 安藤 紗良 | D58: =IF(申込書!$B$53="","",申込書!$B$53) -> 10 | E58: =IF(申込書!$E$54="","",申込書!$E$54) -> 安藤 紗良 | G58: =IF(申込書!$B$53="","",申込書!$B$53) -> 10 | H58: =IF(申込書!$E$54="","",申込書!$E$54) -> 安藤 紗良 | J58: =IF(申込書!$B$53="","",申込書!$B$53) -> 10 | K58: =IF(申込書!$E$54="","",申込書!$E$54) -> 安藤 紗良
A59: =IF(申込書!$B$55="","",申込書!$B$55) -> 11 | B59: =IF(申込書!$E$56="","",申込書!$E$56) -> 田中 沙和 | D59: =IF(申込書!$B$55="","",申込書!$B$55) -> 11 | E59: =IF(申込書!$E$56="","",申込書!$E$56) -> 田中 沙和 | G59: =IF(申込書!$B$55="","",申込書!$B$55) -> 11 | H59: =IF(申込書!$E$56="","",申込書!$E$56) -> 田中 沙和 | J59: =IF(申込書!$B$55="","",申込書!$B$55) -> 11 | K59: =IF(申込書!$E$56="","",申込書!$E$56) -> 田中 沙和
A60: =IF(申込書!$B$57="","",申込書!$B$57) | B60: =IF(申込書!$E$58="","",申込書!$E$58) | D60: =IF(申込書!$B$57="","",申込書!$B$57) | E60: =IF(申込書!$E$58="","",申込書!$E$58) | G60: =IF(申込書!$B$57="","",申込書!$B$57) | H60: =IF(申込書!$E$58="","",申込書!$E$58) | J60: =IF(申込書!$B$57="","",申込書!$B$57) | K60: =IF(申込書!$E$58="","",申込書!$E$58)
A61: =IF(申込書!$B$59="","",申込書!$B$59) | B61: =IF(申込書!$E$60="","",申込書!$E$60) | D61: =IF(申込書!$B$59="","",申込書!$B$59) | E61: =IF(申込書!$E$60="","",申込書!$E$60) | G61: =IF(申込書!$B$59="","",申込書!$B$59) | H61: =IF(申込書!$E$60="","",申込書!$E$60) | J61: =IF(申込書!$B$59="","",申込書!$B$59) | K61: =IF(申込書!$E$60="","",申込書!$E$60)
A62: =IF(申込書!$B$61="","",申込書!$B$61) | B62: =IF(申込書!$E$62="","",申込書!$E$62) | D62: =IF(申込書!$B$61="","",申込書!$B$61) | E62: =IF(申込書!$E$62="","",申込書!$E$62) | G62: =IF(申込書!$B$61="","",申込書!$B$61) | H62: =IF(申込書!$E$62="","",申込書!$E$62) | J62: =IF(申込書!$B$61="","",申込書!$B$61) | K62: =IF(申込書!$E$62="","",申込書!$E$62)

Sheet データ※禁入力
A1: Tourney標準シート | D1: ver | E1: 作成 | F1: 作成日 | G1: ver | H1: 修正 | I1: 修正日 | J1: ver | K1: 修正 | L1: 修正日 | M1: ver | N1: 修正 | O1: 修正日 | P1: ver | Q1: 修正 | R1: 修正日 | S1: ver | T1: 修正 | U1: 修正日 | V1: ver | W1: 修正 | X1: 修正日 | Y1: ver | Z1: 修正 | AA1: 修正日 | AB1: ver | AC1: 修正 | AD1: 修正日 | AE1: ver | AF1: 修正 | AG1: 修正日 | AH1: ver | AI1: 修正 | AJ1: 修正日
D2: 1 | E2: 河部誠一 | F2: 42443 | G2: 1.01 | H2: 河部誠一 | I2: 42471
A4: 大会名 | H4: 男女 | I4: 購入部数 | J4: コメント
H5: =IF(入力!J3="","",入力!J3) -> 女子 | I5: =入力!Y25 -> 6
A6: チームID | B6: チーム名 | C6: チーム名よみ | D6: ブロック・支部 | E6: 男女 | F6: 郵便番号1 | G6: 郵便番号2 | H6: 都道府県 | I6: 住所1 | J6: 住所2 | K6: 電話番号1 | L6: 電話番号2 | M6: 電話番号3 | N6: ファックス1 | O6: ファックス2 | P6: ファックス3 | Q6: 学校長名 | R6: 最寄り駅路線 | S6: 最寄り駅 | T6: 学校ID | U6: JVA番号1 | V6: JVA番号1
A7: =IF(入力!J5="","",入力!J5) -> 120104 | B7: =IF(入力!C3="","",入力!C3) -> 浦安ＭＡＸ | C7: =IF(入力!C2="","",入力!C2) -> ウラヤスマックス | D7: =IF(入力!AE3="","",入力!AE3) -> 千葉県 | E7: =IF(入力!J3="","",入力!J3) -> 女子 | R7: =IF(入力!P5="","",入力!P5) | S7: =IF(入力!AE5="","",入力!AE5) | U7: =IF(入力!C4="","",入力!C4) -> T10091623 | V7: =IF(入力!C5="","",入力!C5)
A15: スタッフNo. | B15: 役職 | C15: スタッフ姓 | D15: スタッフ名 | E15: スタッフ姓よみ | F15: スタッフ名よみ | G15: JVA番号 | H15: 資格番号1 | I15: 資格番号2 | J15: 資格番号3 | K15: 生年月日 | L15: 年齢 | M15: メール | N15: 携帯1 | O15: 携帯2 | P15: 携帯3 | Q15: 外部・教職員 | R15: 郵便番号1 | S15: 郵便番号2 | T15: 住所 | U15: 電話1 | V15: 電話2 | W15: 電話3
A16: 1 | B16: 監督 | C16: =IF(入力!C8="","",入力!C8) -> 栗林 | D16: =IF(入力!E8="","",入力!E8) -> 昇司 | E16: =IF(入力!C7="","",入力!C7) -> クリバヤシ | F16: =IF(入力!E7="","",入力!E7) -> ショウジ | G16: =IF(入力!G7="","",入力!G7) -> JVA000276580 | H16: =IF(入力!J7="","",入力!J7) -> 18404 | I16: =IF(入力!M7="","",入力!M7) -> 200769 | L16: =IF(入力!AT7="","",入力!AT7) -> 47 | R16: =IF(入力!R7="","",入力!R7) -> ２７６ | S16: =IF(入力!W7="","",入力!W7) -> ００３３ | T16: =IF(入力!P8="","",入力!P8) -> 千葉県八千代市八千代台南1-32-1 | U16: =IF(入力!AL7="","",入力!AL7) -> ０９０ | V16: =IF(入力!AK8="","",入力!AK8) -> ９３７６ | W16: =IF(入力!AP8="","",入力!AP8) -> ３８９７
A17: 2 | B17: コーチ1 | C17: =IF(入力!C10="","",入力!C10) -> 佐々木 | D17: =IF(入力!E10="","",入力!E10) -> 深雪 | E17: =IF(入力!C9="","",入力!C9) -> ササキ | F17: =IF(入力!E9="","",入力!E9) -> ミユキ | G17: =IF(入力!G9="","",入力!G9) -> JVA008320438 | H17: =IF(入力!J9="","",入力!J9) | I17: =IF(入力!M9="","",入力!M9) | L17: =IF(入力!AT9="","",入力!AT9) -> 50 | R17: =IF(入力!R9="","",入力!R9) -> 279 | S17: =IF(入力!W9="","",入力!W9) -> 0002 | T17: =IF(入力!P10="","",入力!P10) -> 千葉県浦安市北栄4-8-17-505 | U17: =IF(入力!AL9="","",入力!AL9) -> 047 | V17: =IF(入力!AK10="","",入力!AK10) -> 305 | W17: =IF(入力!AP10="","",入力!AP10) -> 0354
A18: 3 | B18: コーチ2
A19: 4 | B19: トレーナー
A20: 5 | B20: マネージャー | C20: =IF(入力!C12="","",入力!C12) | D20: =IF(入力!E12="","",入力!E12) | E20: =IF(入力!C11="","",入力!C11) | F20: =IF(入力!E11="","",入力!E11) | G20: =IF(入力!G11="","",入力!G11) | H20: =IF(入力!J11="","",入力!J11) | I20: =IF(入力!M11="","",入力!M11) | L20: =IF(入力!AT11="","",入力!AT11) | R20: =IF(入力!R11="","",入力!R11) | S20: =IF(入力!W11="","",入力!W11) | T20: =IF(入力!P12="","",入力!P12) | U20: =IF(入力!AL11="","",入力!AL11) | V20: =IF(入力!AK12="","",入力!AK12) | W20: =IF(入力!AP12="","",入力!AP12)
A21: 6 | B21: 部長 | G21: =IF(入力!G13="","",入力!G13) | H21: =IF(入力!J13="","",入力!J13) | I21: =IF(入力!M13="","",入力!M13) | L21: =IF(入力!AT13="","",入力!AT13) | R21: =IF(入力!R13="","",入力!R13) | S21: =IF(入力!W13="","",入力!W13) | T21: =IF(入力!P14="","",入力!P14) | U21: =IF(入力!AL13="","",入力!AL13) | V21: =IF(入力!AK14="","",入力!AK14) | W21: =IF(入力!AP14="","",入力!AP14)
A22: 7 | B22: 連絡・申込責任者 | C22: =IF(入力!C16="","",入力!C16) -> 栗林 | D22: =IF(入力!E16="","",入力!E16) -> 昇司 | E22: =IF(入力!C15="","",入力!C15) -> クリバヤシ | F22: =IF(入力!E15="","",入力!E15) -> ショウジ | L22: =IF(入力!AT15="","",入力!AT15) -> 46 | N22: =IF(入力!C21="","",入力!C21) -> 090 | O22: =IF(入力!E21="","",入力!E21) -> 9376 | P22: =IF(入力!G21="","",入力!G21) -> 3897 | R22: =IF(入力!R15="","",入力!R15) -> ２７６ | S22: =IF(入力!W15="","",入力!W15) -> ００３３ | T22: =IF(入力!P16="","",入力!P16) -> 千葉県八千代市八千代台南1-32-1 | U22: =IF(入力!AL15="","",入力!AL15) -> ０９０ | V22: =IF(入力!AK16="","",入力!AK16) -> ９３７６ | W22: =IF(入力!AP16="","",入力!AP16) -> ３８９７
A23: 8 | B23: 帯同員 | C23: =IF(入力!$C$14="","",入力!$C$14) | D23: =IF(入力!$E$14="","",入力!$E$14) | E23: =IF(入力!$C$13="","",入力!$C$13) | F23: =IF(入力!$E$13="","",入力!$E$13) | G23: =IF(入力!G15="","",入力!G15) -> メールアドレス | H23: =IF(入力!J15="","",入力!J15) -> s.kuribayshi@gmail.com | I23: =IF(入力!M15="","",入力!M15)
A24: 9 | B24: キャプテン | C24: =VLOOKUP($B$51,$A$53:$F$352,3) -> 今石 | D24: =VLOOKUP($B$51,$A$53:$F$352,4) -> 梓喜 | E24: =VLOOKUP($B$51,$A$53:$F$352,5) -> イマイシ | F24: =VLOOKUP($B$51,$A$53:$F$352,6) -> アズキ | G24: =IF(入力!G8="","",入力!G8) | H24: =IF(入力!J8="","",入力!J8)
A51: キャプテン選手No | B51: =IF(入力!Y33="","",入力!Y33) -> 1
A52: 選手No. | B52: 背番号 | C52: 選手姓 | D52: 選手名 | E52: 選手姓よみ | F52: 選手名よみ | G52: JVA番号 | H52: 学校名 | I52: 学年 | J52: 身長 | K52: 出身校 | L52: 掲載可否
A53: 1 | B53: =IF(入力!B25="","",入力!B25) -> ① | C53: =IF(入力!C26="","",入力!C26) -> 今石 | D53: =IF(入力!E26="","",入力!E26) -> 梓喜 | E53: =IF(入力!C25="","",入力!C25) -> イマイシ | F53: =IF(入力!E25="","",入力!E25) -> アズキ | G53: =IF(入力!M25="","",入力!M25) -> JVA001426007 | H53: =IF(入力!I25="","",入力!I25) -> 信篤小 | I53: =IF(入力!G25="","",入力!G25) -> 6 | J53: =IF(入力!P25="","",入力!P25) -> 145
A54: =A53+1 -> 2 | B54: =IF(入力!B27="","",入力!B27) -> 2 | C54: =IF(入力!C28="","",入力!C28) -> 酒井 | D54: =IF(入力!E28="","",入力!E28) -> 結菜 | E54: =IF(入力!C27="","",入力!C27) -> サカイ | F54: =IF(入力!E27="","",入力!E27) -> ユイナ | G54: =IF(入力!M27="","",入力!M27) -> JVA001426014 | H54: =IF(入力!I27="","",入力!I27) -> 信篤小 | I54: =IF(入力!G27="","",入力!G27) -> 6 | J54: =IF(入力!P27="","",入力!P27) -> 145
A55: =A54+1 -> 3 | B55: =IF(入力!B29="","",入力!B29) -> 3 | C55: =IF(入力!C30="","",入力!C30) -> 立島 | D55: =IF(入力!E30="","",入力!E30) -> 杏菜 | E55: =IF(入力!C29="","",入力!C29) -> タテシマ | F55: =IF(入力!E29="","",入力!E29) -> アンナ | G55: =IF(入力!M29="","",入力!M29) -> JVA001425994 | H55: =IF(入力!I29="","",入力!I29) -> 信篤小 | I55: =IF(入力!G29="","",入力!G29) -> 6 | J55: =IF(入力!P29="","",入力!P29) -> 142
A56: =A55+1 -> 4 | B56: =IF(入力!B31="","",入力!B31) -> 4 | C56: =IF(入力!C32="","",入力!C32) -> 梶岡 | D56: =IF(入力!E32="","",入力!E32) -> 依歩希 | E56: =IF(入力!C31="","",入力!C31) -> カジオカ | F56: =IF(入力!E31="","",入力!E31) -> イブキ | G56: =IF(入力!M31="","",入力!M31) -> JVA001031744 | H56: =IF(入力!I31="","",入力!I31) -> 入船小 | I56: =IF(入力!G31="","",入力!G31) -> 5 | J56: =IF(入力!P31="","",入力!P31) -> 140
A57: =A56+1 -> 5 | B57: =IF(入力!B33="","",入力!B33) -> 5 | C57: =IF(入力!C34="","",入力!C34) -> 磯崎 | D57: =IF(入力!E34="","",入力!E34) -> 汐莉 | E57: =IF(入力!C33="","",入力!C33) -> イソザキ | F57: =IF(入力!E33="","",入力!E33) -> シオリ | G57: =IF(入力!M33="","",入力!M33) -> JVA001234022 | H57: =IF(入力!I33="","",入力!I33) -> 東小 | I57: =IF(入力!G33="","",入力!G33) -> 5 | J57: =IF(入力!P33="","",入力!P33) -> 135
A58: =A57+1 -> 6 | B58: =IF(入力!B35="","",入力!B35) -> 6 | C58: =IF(入力!C36="","",入力!C36) -> 齊藤 | D58: =IF(入力!E36="","",入力!E36) -> 愛美 | E58: =IF(入力!C35="","",入力!C35) -> サイトウ | F58: =IF(入力!E35="","",入力!E35) -> アミ | G58: =IF(入力!M35="","",入力!M35) -> JVA001323115 | H58: =IF(入力!I35="","",入力!I35) -> 信篤小 | I58: =IF(入力!G35="","",入力!G35) -> 5 | J58: =IF(入力!P35="","",入力!P35) -> 150
A59: =A58+1 -> 7 | B59: =IF(入力!B37="","",入力!B37) -> 7 | C59: =IF(入力!C38="","",入力!C38) -> 木村 | D59: =IF(入力!E38="","",入力!E38) -> 莉乃 | E59: =IF(入力!C37="","",入力!C37) -> キムラ | F59: =IF(入力!E37="","",入力!E37) -> リノ | G59: =IF(入力!M37="","",入力!M37) -> JVA001508833 | H59: =IF(入力!I37="","",入力!I37) -> 日の出南小 | I59: =IF(入力!G37="","",入力!G37) -> 5 | J59: =IF(入力!P37="","",入力!P37) -> 140
A60: =A59+1 -> 8 | B60: =IF(入力!B39="","",入力!B39) -> 8 | C60: =IF(入力!C40="","",入力!C40) -> 平野 | D60: =IF(入力!E40="","",入力!E40) -> 結香 | E60: =IF(入力!C39="","",入力!C39) -> ヒラノ | F60: =IF(入力!E39="","",入力!E39) -> ユイカ | G60: =IF(入力!M39="","",入力!M39) -> JVA001487312 | H60: =IF(入力!I39="","",入力!I39) -> 信篤小 | I60: =IF(入力!G39="","",入力!G39) -> 3 | J60: =IF(入力!P39="","",入力!P39) -> 142
A61: =A60+1 -> 9 | B61: =IF(入力!B41="","",入力!B41) -> 9 | C61: =IF(入力!C42="","",入力!C42) -> 今石 | D61: =IF(入力!E42="","",入力!E42) -> 小絃 | E61: =IF(入力!C41="","",入力!C41) -> イマイシ | F61: =IF(入力!E41="","",入力!E41) -> コイト | G61: =IF(入力!M41="","",入力!M41) -> JVA001505191 | H61: =IF(入力!I41="","",入力!I41) -> 信篤小 | I61: =IF(入力!G41="","",入力!G41) -> 3 | J61: =IF(入力!P41="","",入力!P41) -> 135
A62: =A61+1 -> 10 | B62: =IF(入力!B43="","",入力!B43) -> 10 | C62: =IF(入力!C44="","",入力!C44) -> 安藤 | D62: =IF(入力!E44="","",入力!E44) -> 紗良 | E62: =IF(入力!C43="","",入力!C43) -> アンドウ | F62: =IF(入力!E43="","",入力!E43) -> サラ | G62: =IF(入力!M43="","",入力!M43) -> JVA024428064 | H62: =IF(入力!I43="","",入力!I43) -> 高州北小 | I62: =IF(入力!G43="","",入力!G43) -> 3 | J62: =IF(入力!P43="","",入力!P43) -> 135
A63: =A62+1 -> 11 | B63: =IF(入力!B45="","",入力!B45) -> 11 | C63: =IF(入力!C46="","",入力!C46) -> 田中 | D63: =IF(入力!E46="","",入力!E46) -> 沙和 | E63: =IF(入力!C45="","",入力!C45) -> タナカ | F63: =IF(入力!E45="","",入力!E45) -> サワ | G63: =IF(入力!M45="","",入力!M45) -> JVA024429177 | H63: =IF(入力!I45="","",入力!I45) -> 高州北小 | I63: =IF(入力!G45="","",入力!G45) -> 3 | J63: =IF(入力!P45="","",入力!P45) -> 135
A64: =A63+1 -> 12 | B64: =IF(入力!B47="","",入力!B47) | C64: =IF(入力!C48="","",入力!C48) | D64: =IF(入力!E48="","",入力!E48) | E64: =IF(入力!C47="","",入力!C47) | F64: =IF(入力!E47="","",入力!E47) | G64: =IF(入力!M47="","",入力!M47) | H64: =IF(入力!I47="","",入力!I47) | I64: =IF(入力!G47="","",入力!G47) | J64: =IF(入力!P47="","",入力!P47)
A65: =A64+1 -> 13 | B65: =IF(入力!B49="","",入力!B49) | C65: =IF(入力!C50="","",入力!C50) | D65: =IF(入力!E50="","",入力!E50) | E65: =IF(入力!C49="","",入力!C49) | F65: =IF(入力!E49="","",入力!E49) | G65: =IF(入力!M49="","",入力!M49) | H65: =IF(入力!I49="","",入力!I49) | I65: =IF(入力!G49="","",入力!G49) | J65: =IF(入力!P49="","",入力!P49)
A66: =A65+1 -> 14 | B66: =IF(入力!B51="","",入力!B51) | C66: =IF(入力!C52="","",入力!C52) | D66: =IF(入力!E52="","",入力!E52) | E66: =IF(入力!C51="","",入力!C51) | F66: =IF(入力!E51="","",入力!E51) | G66: =IF(入力!M51="","",入力!M51) | H66: =IF(入力!I51="","",入力!I51) | I66: =IF(入力!G51="","",入力!G51) | J66: =IF(入力!P51="","",入力!P51)
A67: =A66+1 -> 15 | B67: =IF(入力!B52="","",入力!B52) | H67: =IF(入力!I52="","",入力!I52) | I67: =IF(入力!G50="","",入力!G50) | J67: =IF(入力!P50="","",入力!P50)
A68: =A67+1 -> 16 | B68: =IF(入力!B26="","",入力!B26) | H68: =IF(入力!I26="","",入力!I26) | I68: =IF(入力!G52="","",入力!G52) | J68: =IF(入力!P52="","",入力!P52)
A69: =A68+1 -> 17 | B69: =IF(入力!B28="","",入力!B28) | H69: =IF(入力!I28="","",入力!I28) | I69: =IF(入力!G26="","",入力!G26) | J69: =IF(入力!P26="","",入力!P26)
A70: =A69+1 -> 18 | B70: =IF(入力!B30="","",入力!B30) | H70: =IF(入力!I30="","",入力!I30) | I70: =IF(入力!G28="","",入力!G28) | J70: =IF(入力!P28="","",入力!P28)
A71: =A70+1 -> 19 | B71: =IF(入力!B32="","",入力!B32) | H71: =IF(入力!I32="","",入力!I32) | I71: =IF(入力!G30="","",入力!G30) | J71: =IF(入力!P30="","",入力!P30)
A72: =A71+1 -> 20 | B72: =IF(入力!B34="","",入力!B34) | H72: =IF(入力!I34="","",入力!I34) | I72: =IF(入力!G32="","",入力!G32) | J72: =IF(入力!P32="","",入力!P32)
A73: =A72+1 -> 21 | B73: =IF(入力!B36="","",入力!B36) | H73: =IF(入力!I36="","",入力!I36) | I73: =IF(入力!G34="","",入力!G34) | J73: =IF(入力!P34="","",入力!P34)
A74: =A73+1 -> 22 | B74: =IF(入力!B38="","",入力!B38) | H74: =IF(入力!I38="","",入力!I38) | I74: =IF(入力!G36="","",入力!G36) | J74: =IF(入力!P36="","",入力!P36)
A75: =A74+1 -> 23 | B75: =IF(入力!B40="","",入力!B40) | H75: =IF(入力!I40="","",入力!I40) | I75: =IF(入力!G38="","",入力!G38) | J75: =IF(入力!P38="","",入力!P38)
A76: =A75+1 -> 24 | B76: =IF(入力!B42="","",入力!B42) | H76: =IF(入力!I42="","",入力!I42) | I76: =IF(入力!G40="","",入力!G40) | J76: =IF(入力!P40="","",入力!P40)
A77: =A76+1 -> 25 | B77: =IF(入力!B44="","",入力!B44) | H77: =IF(入力!I44="","",入力!I44) | I77: =IF(入力!G42="","",入力!G42) | J77: =IF(入力!P42="","",入力!P42)
A78: =A77+1 -> 26 | B78: =IF(入力!B46="","",入力!B46) | H78: =IF(入力!I46="","",入力!I46) | I78: =IF(入力!G44="","",入力!G44) | J78: =IF(入力!P44="","",入力!P44)
A79: =A78+1 -> 27 | B79: =IF(入力!B48="","",入力!B48) | H79: =IF(入力!I48="","",入力!I48) | I79: =IF(入力!G46="","",入力!G46) | J79: =IF(入力!P46="","",入力!P46)
A80: =A79+1 -> 28 | B80: =IF(入力!B50="","",入力!B50) | H80: =IF(入力!I50="","",入力!I50) | I80: =IF(入力!G48="","",入力!G48) | J80: =IF(入力!P48="","",入力!P48)
A81: =A80+1 -> 29
A82: =A81+1 -> 30
A83: =A82+1 -> 31
A84: =A83+1 -> 32
A85: =A84+1 -> 33
A86: =A85+1 -> 34
A87: =A86+1 -> 35
A88: =A87+1 -> 36
A89: =A88+1 -> 37
A90: =A89+1 -> 38
A91: =A90+1 -> 39
A92: =A91+1 -> 40
... A352: =A351+1 -> 300
